BEGIN:VCALENDAR
VERSION:2.0
PRODID:spatie/icalendar-generator
DESCRIPTION:Veranstaltungen von Kyudo Bad Dürkheim e.V.
X-WR-CALDESC:Veranstaltungen von Kyudo Bad Dürkheim e.V.
REFRESH-INTERVAL;VALUE=DURATION:PT1440M
X-PUBLISHED-TTL:PT1440M
BEGIN:VTIMEZONE
TZID:Europe/Berlin
BEGIN:STANDARD
DTSTART:20221030T030000Z
TZOFFSETFROM:+0200
TZOFFSETTO:+0100
END:STANDARD
BEGIN:DAYLIGHT
DTSTART:20230326T020000Z
TZOFFSETFROM:+0100
TZOFFSETTO:+0200
END:DAYLIGHT
END:VTIMEZONE
BEGIN:VTIMEZONE
TZID:UTC
BEGIN:STANDARD
DTSTART:20250726T021259Z
TZOFFSETFROM:+0000
TZOFFSETTO:+0000
END:STANDARD
END:VTIMEZONE
BEGIN:VEVENT
UID:111-19
DTSTAMP:20260422T021259Z
SUMMARY:Intensivseminar II für Matoschützen
LOCATION:Sporthalle der Carl-Orff-Realschule Kanalstraße 19  Bad Dürkheim
ORGANIZER;CN=ME:MAILTO:mirko.ernst@gmx.de
DTSTART;TZID=Europe/Berlin;VALUE=DATE:20230422
DTEND;TZID=Europe/Berlin;VALUE=DATE:20230424
X-ALT-DESC;FMTTYPE=TEXT/HTML:Individualkorrektur (Hauptfehler\, Folgefehler
 \, Fehlerketten) Ausgesuchte Inhalte der Mokurokuschriften als Grundlage d
 es Schießens (Ergänzende Erläuterungen\, Praktische Anweisungen und Üb
 ungen) &amp;nbsp\; Veranstalter: Landesverband Pfalz Ausrichter: Kyudo Bad Dü
 rkheim e.V. Seminarleitung: Fritz Eicher/ 4. Dan Ort: Sporthalle der Carl-
 Orff-Realschule\, Kanalstraße 19\, Bad Dürkheim Datum: 22. - 23.04.2023 
 Zeit: Samstag\,14:00 – 19:00 Uhr Sonntag\, 10:00 – 14:00 Uhr Teilnahme
 bedingungen:&amp;hellip\;
CATEGORIES:vergangen
URL;VALUE=URI:https://kyudo-bad-duerkheim.de/mc-events/intensivseminar-ii-f
 uer-matoschuetzen/
METHOD:PUBLISH
END:VEVENT
END:VCALENDAR