BEGIN:VCALENDAR
VERSION:2.0
PRODID:spatie/icalendar-generator
DESCRIPTION:Veranstaltungen von Kyudo Bad Dürkheim e.V.
X-WR-CALDESC:Veranstaltungen von Kyudo Bad Dürkheim e.V.
REFRESH-INTERVAL;VALUE=DURATION:PT1440M
X-PUBLISHED-TTL:PT1440M
BEGIN:VTIMEZONE
TZID:Europe/Berlin
BEGIN:STANDARD
DTSTART:20221030T030000Z
TZOFFSETFROM:+0200
TZOFFSETTO:+0100
END:STANDARD
BEGIN:DAYLIGHT
DTSTART:20230326T020000Z
TZOFFSETFROM:+0100
TZOFFSETTO:+0200
END:DAYLIGHT
END:VTIMEZONE
BEGIN:VTIMEZONE
TZID:UTC
BEGIN:STANDARD
DTSTART:20250726T002210Z
TZOFFSETFROM:+0000
TZOFFSETTO:+0000
END:STANDARD
END:VTIMEZONE
BEGIN:VEVENT
UID:216-24
DTSTAMP:20260422T002210Z
SUMMARY:Training
LOCATION:Dojo Philipp-Heinrich-Messer-Str. 11  Bad Dürkheim
ORGANIZER;CN=BE:MAILTO:info@kyudo-bad-duerkheim.de
RRULE:FREQ=WEEKLY;UNTIL=20231215T000000Z
DTSTART;TZID=Europe/Berlin:20230414T180000
DTEND;TZID=Europe/Berlin:20230414T200000
X-ALT-DESC;FMTTYPE=TEXT/HTML:
CATEGORIES:Training
URL;VALUE=URI:https://kyudo-bad-duerkheim.de/mc-events/training-4/?mc_id=21
 6
METHOD:PUBLISH
END:VEVENT
END:VCALENDAR