BEGIN:VCALENDAR
VERSION:2.0
PRODID:spatie/icalendar-generator
DESCRIPTION:Veranstaltungen von Kyudo Bad Dürkheim e.V.
X-WR-CALDESC:Veranstaltungen von Kyudo Bad Dürkheim e.V.
REFRESH-INTERVAL;VALUE=DURATION:PT1440M
X-PUBLISHED-TTL:PT1440M
BEGIN:VTIMEZONE
TZID:Europe/Berlin
BEGIN:STANDARD
DTSTART:20221030T030000Z
TZOFFSETFROM:+0200
TZOFFSETTO:+0100
END:STANDARD
BEGIN:DAYLIGHT
DTSTART:20230326T020000Z
TZOFFSETFROM:+0100
TZOFFSETTO:+0200
END:DAYLIGHT
BEGIN:STANDARD
DTSTART:20231029T030000Z
TZOFFSETFROM:+0200
TZOFFSETTO:+0100
END:STANDARD
END:VTIMEZONE
BEGIN:VTIMEZONE
TZID:UTC
BEGIN:STANDARD
DTSTART:20250726T121456Z
TZOFFSETFROM:+0000
TZOFFSETTO:+0000
END:STANDARD
END:VTIMEZONE
BEGIN:VEVENT
UID:106-14
DTSTAMP:20260422T121456Z
SUMMARY:Einführung in das japanische Bogenschießen
LOCATION:Dojo Philipp-Heinrich-Messer-Str. 11  Bad Dürkheim
ORGANIZER;CN=ME:MAILTO:mirko.ernst@gmx.de
DTSTART;TZID=Europe/Berlin:20230701T140000
DTEND;TZID=Europe/Berlin:20230701T190000
X-ALT-DESC;FMTTYPE=TEXT/HTML:<p>Einführung in das japanische Bogenschieße
 n</p>\n
CATEGORIES:vergangen
URL;VALUE=URI:https://kyudo-bad-duerkheim.de/mc-events/einfuehrung-in-das-j
 apanische-bogenschiessen/
METHOD:PUBLISH
END:VEVENT
END:VCALENDAR